BEGIN:VCALENDAR
VERSION:2.0
PRODID:-//wp-events-plugin.com//7.2.3.1//EN
TZID:Europe/London
X-WR-TIMEZONE:Europe/London
BEGIN:VEVENT
UID:255@holytrinityweymouth.org
DTSTART;TZID=Europe/London:20250926T190000
DTEND;TZID=Europe/London:20250926T220000
DTSTAMP:20250904T093657Z
URL:https://www.holytrinityweymouth.org/church-events/variety-fundraising-
 concert/
SUMMARY:An Evening of Music\, Song and Dance
DESCRIPTION:\n 	\nAn Evening of Music\, Song and Dance at 7pm on Friday 26t
 h September\n 	£5 entry\n 	Under 16s free.\n
ATTACH;FMTTYPE=image/jpeg:https://i0.wp.com/www.holytrinityweymouth.org/wp
 -content/uploads/Fundraising-concert.png?fit=703%2C591&ssl=1
CATEGORIES:Church Based Events,Featured
LOCATION:Holy Trinity Church\, Trinity Road\, Weymouth\, Dorset\, DT4 8TJ\,
  United Kingdom
X-APPLE-STRUCTURED-LOCATION;VALUE=URI;X-ADDRESS=Trinity Road\, Weymouth\, D
 orset\, DT4 8TJ\, United Kingdom;X-APPLE-RADIUS=100;X-TITLE=Holy Trinity C
 hurch:geo:0,0
END:VEVENT
BEGIN:VTIMEZONE
TZID:Europe/London
X-LIC-LOCATION:Europe/London
BEGIN:DAYLIGHT
DTSTART:20250330T020000
TZOFFSETFROM:+0000
TZOFFSETTO:+0100
TZNAME:BST
END:DAYLIGHT
END:VTIMEZONE
END:VCALENDAR