BEGIN:VCALENDAR
VERSION:2.0
PRODID:-//wp-events-plugin.com//7.2.3.1//EN
TZID:Europe/London
X-WR-TIMEZONE:Europe/London
BEGIN:VEVENT
UID:30@holytrinityweymouth.org
DTSTART;TZID=Europe/London:20221016T100000
DTEND;TZID=Europe/London:20221016T111500
DTSTAMP:20221013T190205Z
URL:https://www.holytrinityweymouth.org/church-events/sung-eucharist-led-b
 y-reverend-brian-ellis/
SUMMARY:Sung Eucharist led by Reverend Brian Ellis
DESCRIPTION:
CATEGORIES:Services
END:VEVENT
BEGIN:VTIMEZONE
TZID:Europe/London
X-LIC-LOCATION:Europe/London
BEGIN:DAYLIGHT
DTSTART:20220327T020000
TZOFFSETFROM:+0000
TZOFFSETTO:+0100
TZNAME:BST
END:DAYLIGHT
END:VTIMEZONE
END:VCALENDAR