BEGIN:VCALENDAR
VERSION:2.0
PRODID:-//wp-events-plugin.com//7.2.3.1//EN
TZID:Europe/London
X-WR-TIMEZONE:Europe/London
BEGIN:VEVENT
UID:244@holytrinityweymouth.org
DTSTART;TZID=Europe/London:20250413T080000
DTEND;TZID=Europe/London:20250413T080000
DTSTAMP:20250219T140028Z
URL:https://www.holytrinityweymouth.org/church-events/palm-sunday-8am-10am
 /
SUMMARY:Palm Sunday 8am / 10am
DESCRIPTION:\n 	8.00 am - Said Eucharist\n 	10am - Family Service with Donk
 eys (Non Eucharistic)\n
ATTACH;FMTTYPE=image/jpeg:https://i0.wp.com/www.holytrinityweymouth.org/wp
 -content/uploads/IMG-20240402-WA0015.jpg?fit=1600%2C1200&ssl=1
CATEGORIES:Services
END:VEVENT
BEGIN:VTIMEZONE
TZID:Europe/London
X-LIC-LOCATION:Europe/London
BEGIN:DAYLIGHT
DTSTART:20250330T020000
TZOFFSETFROM:+0000
TZOFFSETTO:+0100
TZNAME:BST
END:DAYLIGHT
END:VTIMEZONE
END:VCALENDAR