BEGIN:VCALENDAR
VERSION:2.0
PRODID:-//wp-events-plugin.com//7.2.3.1//EN
TZID:Europe/London
X-WR-TIMEZONE:Europe/London
BEGIN:VEVENT
UID:164@holytrinityweymouth.org
DTSTART;TZID=Europe/London:20231224T160000
DTEND;TZID=Europe/London:20231224T160000
DTSTAMP:20231130T105542Z
URL:https://www.holytrinityweymouth.org/church-events/crib-service/
SUMMARY:Crib Service
DESCRIPTION:Xmas PJ's - Oodies and Onsies
ATTACH;FMTTYPE=image/jpeg:https://i0.wp.com/www.holytrinityweymouth.org/wp
 -content/uploads/Epiphany-crib-2.jpg?fit=1280%2C960&ssl=1
CATEGORIES:Services
END:VEVENT
BEGIN:VTIMEZONE
TZID:Europe/London
X-LIC-LOCATION:Europe/London
BEGIN:STANDARD
DTSTART:20231029T010000
TZOFFSETFROM:+0100
TZOFFSETTO:+0000
TZNAME:GMT
END:STANDARD
END:VTIMEZONE
END:VCALENDAR